BEGIN:VCALENDAR
VERSION:2.0
PRODID:-//Serotone DnB - ECPv5.2.1//NONSGML v1.0//EN
CALSCALE:GREGORIAN
METHOD:PUBLISH
X-WR-CALNAME:Serotone DnB
X-ORIGINAL-URL:http://serotonednb.co.uk
X-WR-CALDESC:Events for Serotone DnB
BEGIN:VTIMEZONE
TZID:UTC
BEGIN:STANDARD
TZOFFSETFROM:+0000
TZOFFSETTO:+0000
TZNAME:UTC
DTSTART:20160101T000000
END:STANDARD
END:VTIMEZONE
BEGIN:VEVENT
DTSTART;TZID=UTC:20160722T220000
DTEND;TZID=UTC:20160723T060000
DTSTAMP:20260424T021633
CREATED:20160322T185824Z
LAST-MODIFIED:20160428T154738Z
UID:3947-1469224800-1469253600@serotonednb.co.uk
SUMMARY:Takeover presents Utopia Music
DESCRIPTION:[vc_row][vc_column][vc_column_text] \nTAKEOVER presents Utopia Music\n[/vc_column_text]\n							\n							\n								\n							\n							\n				[vc_column_text] \nFriday 22nd July @ Volks Club \nFeaturing: \nTotal Science | DLR | Mako | Villem | Hydro | De:Tune & Rivalize | Cronicz & Impact | Aljmex & Kosmetik \nPlus MC’s: \nKerizma | Legacy | Rumble | Range | Chig \n[/vc_column_text][/vc_column][/vc_row]
URL:http://serotonednb.co.uk/event/takeover-presents-utopia-music/
LOCATION:Volks Nightclub\, 3\, The Colonnade\, Madeira Dr\, Brighton\, East Sussex \, BN2 1PS\, United Kingdom
CATEGORIES:Night Club Events
ATTACH;FMTTYPE=image/jpeg:http://serotonednb.co.uk/wp-content/uploads/2016/04/TAKEOVER-CIAUTOPIA_LAUNCH.jpg
END:VEVENT
END:VCALENDAR