BEGIN:VCALENDAR
VERSION:2.0
PRODID:-//Serotone DnB - ECPv5.2.1//NONSGML v1.0//EN
CALSCALE:GREGORIAN
METHOD:PUBLISH
X-WR-CALNAME:Serotone DnB
X-ORIGINAL-URL:http://serotonednb.co.uk
X-WR-CALDESC:Events for Serotone DnB
BEGIN:VTIMEZONE
TZID:UTC
BEGIN:STANDARD
TZOFFSETFROM:+0000
TZOFFSETTO:+0000
TZNAME:UTC
DTSTART:20140101T000000
END:STANDARD
END:VTIMEZONE
BEGIN:VEVENT
DTSTART;TZID=UTC:20141129T220000
DTEND;TZID=UTC:20141130T050000
DTSTAMP:20260423T203152
CREATED:20141112T122523Z
LAST-MODIFIED:20141118T094746Z
UID:2672-1417298400-1417323600@serotonednb.co.uk
SUMMARY:Nu:Dance Music Presents: Serotone Recordings Showcase!
DESCRIPTION:[vc_row][vc_column width=”1/1″][vc_column_text] \nNu:Dance Music Presents: Serotone Recordings Showcase!\n[/vc_column_text]\n							\n							\n								\n							\n							\n				[vc_column_text] \nVery special drum & bass night in Subclub\, Bratislava\, Slovakia. \nRIVALIZE (UK)\nBROWN B (UK)\nTHRETS (UK)\nCRONICZ (UK)\nBANGTA RIGHTS (UK)\nDUSTY (UK)\nKOSMETIK (UK)\nERO DRUMMER & M.BASS (SK)\nFATSOUND (SK) (NU:DANCE)\n[/vc_column_text][vc_row_inner][vc_column_inner width=”5/6″][vc_single_image image=”2678″ border_color=”grey” img_link_target=”_self” img_size=”full”][/vc_column_inner][vc_column_inner width=”1/6″][vc_single_image image=”2679″ border_color=”grey” img_link_target=”_self” img_size=”full” img_link=”https://www.facebook.com/events/730455710367742″][/vc_column_inner][/vc_row_inner][/vc_column][/vc_row]
URL:http://serotonednb.co.uk/event/slovak-dnb-showcase/
LOCATION:SubClub\, Nábrežie arm. gen. Ludvíka Svobodu \,  Bratislava\, 811 02\, Slovakia (Slovak Republic)
CATEGORIES:Night Club Events
ATTACH;FMTTYPE=image/jpeg:http://serotonednb.co.uk/wp-content/uploads/2014/11/Nu-Dance-Music-Presents-Serotone-Recordings-Slovakia-DnB-Event-Image.jpg
END:VEVENT
END:VCALENDAR