BEGIN:VCALENDAR
VERSION:2.0
PRODID:-//Serotone DnB - ECPv5.2.1//NONSGML v1.0//EN
CALSCALE:GREGORIAN
METHOD:PUBLISH
X-WR-CALNAME:Serotone DnB
X-ORIGINAL-URL:http://serotonednb.co.uk
X-WR-CALDESC:Events for Serotone DnB
BEGIN:VTIMEZONE
TZID:UTC
BEGIN:STANDARD
TZOFFSETFROM:+0000
TZOFFSETTO:+0000
TZNAME:UTC
DTSTART:20170101T000000
END:STANDARD
END:VTIMEZONE
BEGIN:VEVENT
DTSTART;TZID=UTC:20170527T230000
DTEND;TZID=UTC:20170528T050000
DTSTAMP:20260424T010022
CREATED:20161215T134234Z
LAST-MODIFIED:20170411T084739Z
UID:4410-1495926000-1495947600@serotonednb.co.uk
SUMMARY:Serotone Recordings presents: LOW DOWN DEEP
DESCRIPTION:[vc_row][vc_column][vc_column_text] \nSEROTONE presents LOW DOWN DEEP\n[/vc_column_text][vc_separator][vc_column_text] \nWe’re back at The Arch Brighton after a huge sell out show in June 2016 as part of the Low Down Deep 10 year tour.\nProviding the best in jump up DnB ALL NIGHT from LOW DOWN DEEP’s finest: \n*LOGAN D\n*MAJISTRATE\n*HEIST\n*DJ SLY\n*MELINKI\n\nMC’s: \n*EVIL B\n*FATMAN D\n*BASSMAN \nSUPPORT: \nJESTER AND PAYNE \nMCs BROOKS\, STYLE ONE\, RANGE \nTERRACE: NU:MANOEUVRES \n\n[/vc_column_text][vc_single_image source=”external_link” custom_src=”https://scontent.flhr1-1.fna.fbcdn.net/v/t1.0-9/17884459_1287639581335630_7807725175952400781_n.jpg?oh=1056c96b3077d58c57280a03307e9d55&oe=5995845C”][/vc_column][/vc_row]
URL:http://serotonednb.co.uk/event/serotone-recordings-presents-low-down-deep/
LOCATION:The Arch\, 187 Kings Road\, Brighton\, United Kingdom
CATEGORIES:Night Club Events
ATTACH;FMTTYPE=image/jpeg:http://serotonednb.co.uk/wp-content/uploads/2016/12/PRE_SERO_LDD_2017.jpg
END:VEVENT
END:VCALENDAR