BEGIN:VCALENDAR
VERSION:2.0
PRODID:-//Serotone DnB - ECPv5.2.1//NONSGML v1.0//EN
CALSCALE:GREGORIAN
METHOD:PUBLISH
X-WR-CALNAME:Serotone DnB
X-ORIGINAL-URL:http://serotonednb.co.uk
X-WR-CALDESC:Events for Serotone DnB
BEGIN:VTIMEZONE
TZID:UTC
BEGIN:STANDARD
TZOFFSETFROM:+0000
TZOFFSETTO:+0000
TZNAME:UTC
DTSTART:20150101T000000
END:STANDARD
END:VTIMEZONE
BEGIN:VEVENT
DTSTART;TZID=UTC:20151114T230000
DTEND;TZID=UTC:20151115T060000
DTSTAMP:20260423T233307
CREATED:20150921T101039Z
LAST-MODIFIED:20151113T175820Z
UID:3526-1447542000-1447567200@serotonednb.co.uk
SUMMARY:Serotone presents: EATBRAIN
DESCRIPTION:[vc_row][vc_column][vc_column_text] \nSerotone are proud to present for the first time in Brighton the Dark\, Deep\, Unfiltered\, Unrestrained sound that is premier neurofunk drum & bass at its unrelentless best. Eatbrain. As these two cutting edge brands combine to bring you a drum and bass experience to remember and rock the Volks to its foundations.\nfrom Eatbrain we have label stalwarts; \n*JADE\n*MINDSCAPE\n*L 33\n___________________________________________________ \nReppin’ #TeamSerotone; \n*special guest KONTACT\n(Life Recs/Cyberfunk Recs/Data Transmission) \n*ERO DRUMMER & M.BASS\n*THRETS & BANGTA RIGHTS\n*BROWN B & RAW SIGNAL \nHosts / MCs on the Night; \nB-KIND\, KERIZMA & LEGACY\, RUMBLE\, RANGE\, RANDOM K\, DOUBLE L\, DIRTZ. \n___________________________________________________ \nRoom2 \n*MAZ & KILO\n*METHODICAL\n*ALJMEX & KOSMETIK\n*PAYNE & JESTER\n*D JAKE & IR-8\n*TRAUMA & RACENSION\n*CRONICZ & IMPACT \n___________________________________________________ \n11pm – 6am / £8 Advance from www.serotonednb.co.uk MOTD[/vc_column_text][/vc_column][/vc_row][vc_row full_width=”” parallax=”” parallax_image=””][vc_column width=”1/1″][vc_single_image image=”3567″ alignment=”center” border_color=”grey” img_link_large=”” img_link_target=”_self” img_size=”large”][/vc_column][/vc_row]
URL:http://serotonednb.co.uk/event/serotone-presents-eatbrain/
LOCATION:Volks Nightclub\, 3\, The Colonnade\, Madeira Dr\, Brighton\, East Sussex \, BN2 1PS\, United Kingdom
CATEGORIES:Night Club Events
ATTACH;FMTTYPE=image/jpeg:http://serotonednb.co.uk/wp-content/uploads/2015/09/SEO-FACEBOOKNEW.jpg
END:VEVENT
END:VCALENDAR