BEGIN:VCALENDAR
VERSION:2.0
PRODID:-//Serotone DnB - ECPv5.2.1//NONSGML v1.0//EN
CALSCALE:GREGORIAN
METHOD:PUBLISH
X-WR-CALNAME:Serotone DnB
X-ORIGINAL-URL:http://serotonednb.co.uk
X-WR-CALDESC:Events for Serotone DnB
BEGIN:VTIMEZONE
TZID:UTC
BEGIN:STANDARD
TZOFFSETFROM:+0000
TZOFFSETTO:+0000
TZNAME:UTC
DTSTART:20180101T000000
END:STANDARD
END:VTIMEZONE
BEGIN:VEVENT
DTSTART;TZID=UTC:20180427T230000
DTEND;TZID=UTC:20180428T060000
DTSTAMP:20260424T020756
CREATED:20180305T103934Z
LAST-MODIFIED:20180305T104139Z
UID:4827-1524870000-1524895200@serotonednb.co.uk
SUMMARY:SEROTONE: 6TH BIRTHDAY
DESCRIPTION:Serotone is back at our spiritual home for our 6th Birthday Bash and to mark our 30th label release from two of the scenes most exciting and promising artists MELINKI & VERVA who return to the label and to shell down the dance to launch their ‘ONLY THE BEGINNING’ EP which also features a remix of ‘JUMANJI’\, their first outing on the label remixed to devastating\, heavy rolling fashion courtesy of man of the moment PHILTH\, also performing on the night. \nNo to mention d&b heavyweights MAMPI SWIFT & CRISSY CHRIS performing one of their critically renowned\, high energy b2b sets for 90 minutes with the vocal hype talents of CARASEL MC. This is set to be another Serotone smasher to remember bringing our trademark\, serotonin inducing vibe’d out events supported by our very own #TeamSerotoneallstars. \nMain Room:\n*MampiSwift&CrissyChris w Carasel MC – 90 mins\n*Philth\n*Melinki\n+\n*Rivalize\n*Aljmex\n*Payne&Jester\n*Kosmetik\n*D-Jake\n*IR-8\nHosted by:\n*Rumble\n*Brooks\n*Dazman\n*Tech3\n*Kernel Antanta \nRoom2:\nNu:Manoeuvres\n*Biobreak\n*Precynct\n*Phazeman\n*Rascension\n*Violate\n*Munxi\n*Detch\n*EZB\n*Pharaoh\nHosted by:\n*Nugz\n*SkammaDon \nTickets £7 in advance from serotonednb.co.uk / £10 on the door all night. \nSee you at the front!
URL:http://serotonednb.co.uk/event/serotone-6th-birthday/
LOCATION:Volks Nightclub\, 3\, The Colonnade\, Madeira Dr\, Brighton\, East Sussex \, BN2 1PS\, United Kingdom
CATEGORIES:Night Club Events
ATTACH;FMTTYPE=image/jpeg:http://serotonednb.co.uk/wp-content/uploads/2018/03/SEROTONE_6THBDAY_APR18_SB_POSTER.jpg
END:VEVENT
END:VCALENDAR