BEGIN:VCALENDAR
VERSION:2.0
PRODID:-//Serotone DnB - ECPv5.2.1//NONSGML v1.0//EN
CALSCALE:GREGORIAN
METHOD:PUBLISH
X-WR-CALNAME:Serotone DnB
X-ORIGINAL-URL:http://serotonednb.co.uk
X-WR-CALDESC:Events for Serotone DnB
BEGIN:VTIMEZONE
TZID:UTC
BEGIN:STANDARD
TZOFFSETFROM:+0000
TZOFFSETTO:+0000
TZNAME:UTC
DTSTART:20150101T000000
END:STANDARD
END:VTIMEZONE
BEGIN:VEVENT
DTSTART;TZID=UTC:20150509T230000
DTEND;TZID=UTC:20150510T070000
DTSTAMP:20260423T203118
CREATED:20150410T081448Z
LAST-MODIFIED:20150505T141857Z
UID:3323-1431212400-1431241200@serotonednb.co.uk
SUMMARY:Serotone 3rd Birthday
DESCRIPTION:Yes we are 3 years old already. Time certainly fly’s when you’re having fun and once again we bring you a comprehensive lineup comprising all styles of D&B from June Miller with their holds barred Tech\, Brockie with his master dancefloor selection complimented by long time partner MC Det’s power vocals to the deep\, rolling eclectic selection from Command Strange. Also supported by Serotone’s own elite artists\, local badboy Threts\, master technician Bangta Rights\, badboy selector Brown B and making their debut\, new signings Raw Signal (Rivalize\, Dusty & Optynmun) + special guests Fatsound from Nu:Dance Slovakia and Gumbo & Chinksta MC from London’s Flight FM. \nMain Room: \n -JUNE MILLER (Ram)\n -BROCKIE & DET (Undiluted)\n -COMMAND STRANGE (V Recs)\n-FATSOUND (NU:Dance.sk)\n-GUMBO & CHINKSTA MC (Flight Fm)\n-THRETS b2b BANGTA RIGHTS (Serotone Recs)\n-BROWN B (Serotone Recs)\n-RAW SIGNAL (Serotone Recs) \nHosted By:\nKERIZMA&LEGACY\, RUMBLE\, REMO\, RANGE\, CHATS\, DIRTZ \nBasement: \n -DEAD NOIZE\n -QUINN-E\n -MAZ\n -COLDHARBOUR RAY\n -PAUL HUNTER\n -RHYTHM BEATER\n -LOFTY & ST\n -TRAUMA
URL:http://serotonednb.co.uk/event/serotone-3rd-birthday/
LOCATION:Volks Nightclub\, 3\, The Colonnade\, Madeira Dr\, Brighton\, East Sussex \, BN2 1PS\, United Kingdom
CATEGORIES:Night Club Events
ATTACH;FMTTYPE=image/jpeg:http://serotonednb.co.uk/wp-content/uploads/2015/04/Serotone-3rd-Birthday.jpg
END:VEVENT
END:VCALENDAR