BEGIN:VCALENDAR
VERSION:2.0
PRODID:-//Serotone DnB - ECPv5.2.1//NONSGML v1.0//EN
CALSCALE:GREGORIAN
METHOD:PUBLISH
X-WR-CALNAME:Serotone DnB
X-ORIGINAL-URL:http://serotonednb.co.uk
X-WR-CALDESC:Events for Serotone DnB
BEGIN:VTIMEZONE
TZID:UTC
BEGIN:STANDARD
TZOFFSETFROM:+0000
TZOFFSETTO:+0000
TZNAME:UTC
DTSTART:20160101T000000
END:STANDARD
END:VTIMEZONE
BEGIN:VEVENT
DTSTART;TZID=UTC:20160624T230000
DTEND;TZID=UTC:20160625T060000
DTSTAMP:20260423T220243
CREATED:20160318T213342Z
LAST-MODIFIED:20160624T182211Z
UID:3938-1466809200-1466834400@serotonednb.co.uk
SUMMARY:Low Down Deep 10 Year Tour - Brighton
DESCRIPTION:[vc_row][vc_column][vc_column_text] \nLow Down Deep 10 Year Tour – Brighton\n[/vc_column_text][vc_separator][vc_column_text] \nWe have plenty of tickets available on the door\nSerotone Recordings proudly present Low Down Deep Brighton! \nThe number one label in Jump Up DnB will be hitting Brighton as part of their 10 year anniversary tour! \nWe have a top flight selection of the labels best artists and MCs lined up for the south coast jump up MASSIVE. The show takes place at Brighton’s premier underground DnB venue\, The Arch. \nThis HUGE label line up will see the LDD crew performing their signature DnB sound through the Arch’s full range Funktion-One (Official) sound system. \nFor those of us down with the true jump up sound\, hold tight\, as we keep it UNDERGROUND!\n——- \nBringing the hype from LDD will be… \nLOGAN D\nMAGISTRATE\nDOMINATOR\nTURNO\nJAYDAN \nMC’s: EVIL B\, AZZA\, GRIMA \nSupport from: \nBrown B & Edition\nRivalize & Jester \nMC’s: Hijack\, Rumble \nRoom 2 hosted by Nu manoeuvres[/vc_column_text][/vc_column][/vc_row]
URL:http://serotonednb.co.uk/event/low-down-deep-10-year-tour-brighton/
LOCATION:The Arch\, 187 Kings Road\, Brighton\, United Kingdom
CATEGORIES:Night Club Events
ATTACH;FMTTYPE=image/jpeg:http://serotonednb.co.uk/wp-content/uploads/2016/03/POSTER_Serotone_LOW_DOWN_DEEP.jpg
END:VEVENT
END:VCALENDAR